BEGIN:VCALENDAR
VERSION:2.0
PRODID:-//Battle Mountain Depot and Mining Museum - ECPv6.15.20//NONSGML v1.0//EN
CALSCALE:GREGORIAN
METHOD:PUBLISH
X-ORIGINAL-URL:https://cookhousemuseum.org
X-WR-CALDESC:Events for Battle Mountain Depot and Mining Museum
REFRESH-INTERVAL;VALUE=DURATION:PT1H
X-Robots-Tag:noindex
X-PUBLISHED-TTL:PT1H
BEGIN:VTIMEZONE
TZID:America/Los_Angeles
BEGIN:DAYLIGHT
TZOFFSETFROM:-0800
TZOFFSETTO:-0700
TZNAME:PDT
DTSTART:20230312T100000
END:DAYLIGHT
BEGIN:STANDARD
TZOFFSETFROM:-0700
TZOFFSETTO:-0800
TZNAME:PST
DTSTART:20231105T090000
END:STANDARD
BEGIN:DAYLIGHT
TZOFFSETFROM:-0800
TZOFFSETTO:-0700
TZNAME:PDT
DTSTART:20240310T100000
END:DAYLIGHT
BEGIN:STANDARD
TZOFFSETFROM:-0700
TZOFFSETTO:-0800
TZNAME:PST
DTSTART:20241103T090000
END:STANDARD
BEGIN:DAYLIGHT
TZOFFSETFROM:-0800
TZOFFSETTO:-0700
TZNAME:PDT
DTSTART:20250309T100000
END:DAYLIGHT
BEGIN:STANDARD
TZOFFSETFROM:-0700
TZOFFSETTO:-0800
TZNAME:PST
DTSTART:20251102T090000
END:STANDARD
END:VTIMEZONE
BEGIN:VEVENT
DTSTART;TZID=America/Los_Angeles:20240921T080000
DTEND;TZID=America/Los_Angeles:20240921T200000
DTSTAMP:20260424T122925
CREATED:20240912T235716Z
LAST-MODIFIED:20240913T000932Z
UID:1383-1726905600-1726948800@cookhousemuseum.org
SUMMARY:Golf Tournament: 4 Person Scramble
DESCRIPTION:📣 Battle Mountain Cookhouse Museum Presents: Fundraising Golf Tournament! ⛳ \nJoin us for a day of fun\, games\, and prizes at our Fundraising Golf Tournament to support the Battle Mountain Cookhouse Museum! \n📅 Date: Saturday\, September 21\, 2024 \n \n  \n⏰ Tee Off: 8:00 AM\n📍 Location: Mountain View Golf Course\, 205 Fairway Drive\, Battle Mountain \n🏌️‍♂️ Tournament Format: 4-Person Scramble \n🎯 What’s Included: Games\, Prizes\, & Raffles!\n🍽️ Lunch Provided! \n💲 Registration Fee: $40 per player \n🔢 Team Cap: 18 teams (so register early!) \nPre-Register: \n\nAt the Mountain View Golf Course\nDay of event starting at 7:00 AM\n\n🚗 Golf Carts: Limited availability—come early or bring your own!\nCash only. \nFor more info\, contact us at:\n📞 775-635-8518\n📧 2012cookhousemuseum@gmail.com \nSwing by for a great cause\, and enjoy a fantastic day on the greens! 🏌️‍♀️ \n 
URL:https://cookhousemuseum.org/event/golf-tournament-4-person-scramble/
LOCATION:Mountain View Golf Course\, 205 Fairway Dr.\, Battle Mountain\, NV\, 89820\, United States
ATTACH;FMTTYPE=image/png:https://cookhousemuseum.org/wp-content/uploads/2024/09/GolfTourneyAd.png
END:VEVENT
END:VCALENDAR