BEGIN:VCALENDAR
VERSION:2.0
PRODID:-//Battle Mountain Depot and Mining Museum - ECPv6.15.20//NONSGML v1.0//EN
CALSCALE:GREGORIAN
METHOD:PUBLISH
X-WR-CALNAME:Battle Mountain Depot and Mining Museum
X-ORIGINAL-URL:https://cookhousemuseum.org
X-WR-CALDESC:Events for Battle Mountain Depot and Mining Museum
REFRESH-INTERVAL;VALUE=DURATION:PT1H
X-Robots-Tag:noindex
X-PUBLISHED-TTL:PT1H
BEGIN:VTIMEZONE
TZID:America/Los_Angeles
BEGIN:DAYLIGHT
TZOFFSETFROM:-0800
TZOFFSETTO:-0700
TZNAME:PDT
DTSTART:20240310T100000
END:DAYLIGHT
BEGIN:STANDARD
TZOFFSETFROM:-0700
TZOFFSETTO:-0800
TZNAME:PST
DTSTART:20241103T090000
END:STANDARD
BEGIN:DAYLIGHT
TZOFFSETFROM:-0800
TZOFFSETTO:-0700
TZNAME:PDT
DTSTART:20250309T100000
END:DAYLIGHT
BEGIN:STANDARD
TZOFFSETFROM:-0700
TZOFFSETTO:-0800
TZNAME:PST
DTSTART:20251102T090000
END:STANDARD
BEGIN:DAYLIGHT
TZOFFSETFROM:-0800
TZOFFSETTO:-0700
TZNAME:PDT
DTSTART:20260308T100000
END:DAYLIGHT
BEGIN:STANDARD
TZOFFSETFROM:-0700
TZOFFSETTO:-0800
TZNAME:PST
DTSTART:20261101T090000
END:STANDARD
BEGIN:DAYLIGHT
TZOFFSETFROM:-0800
TZOFFSETTO:-0700
TZNAME:PDT
DTSTART:20270314T100000
END:DAYLIGHT
BEGIN:STANDARD
TZOFFSETFROM:-0700
TZOFFSETTO:-0800
TZNAME:PST
DTSTART:20271107T090000
END:STANDARD
END:VTIMEZONE
BEGIN:VEVENT
DTSTART;TZID=America/Los_Angeles:20251213T173000
DTEND;TZID=America/Los_Angeles:20251213T193000
DTSTAMP:20260423T163114
CREATED:20251204T053636Z
LAST-MODIFIED:20251204T053707Z
UID:1413-1765647000-1765654200@cookhousemuseum.org
SUMMARY:Cookhouse Christmas Cruise
DESCRIPTION:🎄 Cookhouse Christmas Cruise 🎄Get ready to light up the night with festive fun and holiday cheer! \nJoin us on December 13th for a magical evening supporting the Cookhouse Museum. Bring your decorated Off Road Vehicles and help us celebrate the season in style! \n📍 Starts & ends at: 905 Burns St.\, Battle Mountain\, NV⏰ Registration: 5:30 pm🚗 Entry Fee: $30 (All proceeds support the museum!) \n✨ Prizes awarded to the top 3 entries!Enjoy games\, drinks\, and holiday fun throughout the night. Don’t forget to bring cash! \n📞 Call to Register: 775-635-8548Licensed drivers only.
URL:https://cookhousemuseum.org/event/cookhouse-christmas-cruise-2/
LOCATION:Battle Mountain Cookhouse Museum\, 905 Burns St\, Battle Mountain\, NV\, 89820\, United States
ATTACH;FMTTYPE=image/png:https://cookhousemuseum.org/wp-content/uploads/2025/12/ChristmasCruise.png
ORGANIZER;CN="Battle Mountain Cookhouse Museum":MAILTO:2012cookhousemuseum@gmail.com
END:VEVENT
BEGIN:VEVENT
DTSTART;TZID=America/Los_Angeles:20260530T100000
DTEND;TZID=America/Los_Angeles:20260530T160000
DTSTAMP:20260423T163114
CREATED:20260403T204409Z
LAST-MODIFIED:20260419T200133Z
UID:1429-1780135200-1780156800@cookhousemuseum.org
SUMMARY:Craft Fair
DESCRIPTION:🎉 Craft Fair at the Cookhouse Museum! 🎉 \nJoin us on May 30 from 10 AM – 4 PM for a fun-filled day of shopping\, creativity\, and community at the Battle Mountain Cookhouse Museum! \n📍 Location: 905 Burns St.\, Battle Mountain\, NV 89820 \nCome browse unique handmade goods\, support local artisans\, and enjoy a great day out! \n✨ Vendors Wanted! ✨Interested in setting up a booth? We’d love to have you!📧 Email: 2012cookhousemuseum@gmail.com📞 Call: 775-635-8548
URL:https://cookhousemuseum.org/event/craft-fair/
LOCATION:Battle Mountain Cookhouse Museum\, 905 Burns St\, Battle Mountain\, NV\, 89820\, United States
ATTACH;FMTTYPE=image/png:https://cookhousemuseum.org/wp-content/uploads/2026/04/Craft-Fair-May-2026-3.png
END:VEVENT
END:VCALENDAR